BEGIN:VCALENDAR
VERSION:2.0
X-WR-CALNAME:Hello Huntsville Events - 8th Annual 24-Hour Play Festival
X-WR-CALDESC:Event from Hello Huntsville TX
PRODID:Hello Huntsville TX
BEGIN:VEVENT
DTEND:20260426T030000Z
LOCATION:Huntsville High School Performing Arts Center\, 515 FM 2821 E
DTSTART:20260426T000000Z
SUMMARY:8th Annual 24-Hour Play Festival
UID:4f826f9b-af4d-49a7-933f-5090e6e6e307@4f82.org
END:VEVENT
END:VCALENDAR