BEGIN:VCALENDAR
VERSION:2.0
X-WR-CALNAME:Hello Huntsville Events - Girl Scout Night At Raising Canes Huntsville
X-WR-CALDESC:Event from Hello Huntsville TX
PRODID:Hello Huntsville TX
BEGIN:VEVENT
DTEND:20260429T233000Z
LOCATION:Raising Cane's\, 277 I-45
DTSTART:20260429T220000Z
SUMMARY:Girl Scout Night At Raising Canes Huntsville
UID:57d706ef-0b18-45a8-9476-ad2a8a2ab9da@57d7.org
END:VEVENT
END:VCALENDAR