BEGIN:VCALENDAR
VERSION:2.0
X-WR-CALNAME:Hello Huntsville Events - Make’em Sweat Mother's Day Celebration
X-WR-CALDESC:Event from Hello Huntsville TX
PRODID:Hello Huntsville TX
BEGIN:VEVENT
DTEND:20260511T000000Z
LOCATION:Emancipation Park\, 300 Martin Luther King Dr
DTSTART:20260510T210000Z
SUMMARY:Make’em Sweat Mother's Day Celebration
UID:8ff20e4a-75d1-4040-b695-278830830eb6@8ff2.org
END:VEVENT
END:VCALENDAR