BEGIN:VCALENDAR
VERSION:2.0
X-WR-CALNAME:Hello Huntsville Events - Orange Pride Dance Team National Champion Celebration
X-WR-CALDESC:Event from Hello Huntsville TX
PRODID:Hello Huntsville TX
BEGIN:VEVENT
DTEND:20260430T200000Z
LOCATION:Frank Parker Plaza at SHSU\, 1802 Avenue I
DTSTART:20260430T183000Z
SUMMARY:Orange Pride Dance Team National Champion Celebration
UID:56f27217-383e-4e5e-880c-ffeef4244b7e@56f2.org
END:VEVENT
END:VCALENDAR