BEGIN:VCALENDAR
VERSION:2.0
X-WR-CALNAME:Hello Huntsville Events - TCS Home Store Grand Opening
X-WR-CALDESC:Event from Hello Huntsville TX
PRODID:Hello Huntsville TX
BEGIN:VEVENT
DTEND:20260425T210000Z
LOCATION:TCS Home Store\, 30 Highway 75 North
DTSTART:20260425T150000Z
SUMMARY:TCS Home Store Grand Opening
UID:0009ced8-2d37-473b-ac3d-eddfe1509e3b@0009.org
END:VEVENT
END:VCALENDAR