BEGIN:VCALENDAR
VERSION:2.0
X-WR-CALNAME:Hello Huntsville Events - Watercolor Whimsy Sip and Splatter - Mother's Day Event
X-WR-CALDESC:Event from Hello Huntsville TX
PRODID:Hello Huntsville TX
BEGIN:VEVENT
DTEND:20260502T170000Z
LOCATION:Deckled Edge Art Co.\, 2503 Lake Rd. Suite C-111
DTSTART:20260502T150000Z
SUMMARY:Watercolor Whimsy Sip and Splatter - Mother's Day Event
UID:68dd6389-c1eb-42a2-afd0-220cc9ea7211@68dd.org
URL:https://www.decklededgeart.com/sip-and-splatter-events/p/mothers-day-event
END:VEVENT
END:VCALENDAR